BEGIN:VCALENDAR
PRODID:-//SINGPromos.com//NONSGML v1.0//EN
VERSION:2.0
CALSCALE:GREGORIAN
METHOD:PUBLISH
X-WR-CALNAME:SINGPromos.com
X-ORIGINAL-URL:https://singpromos.com
X-WR-CALDESC:Events for SINGPromos.com
BEGIN:VEVENT
DTSTART:20171125T000000
DTEND:20171125T235900
DTSTAMP:20260420T074441
CREATED:20171024T192800
LAST-MODIFIED:20171024T192800
UID:208996@https://singpromos.com
SUMMARY:Morganfield's annual all-you-can-eat Ribfest to return at Orchard Central on 25 Nov 2017
DESCRIPTION:Morganfield's brings back their annual Ribfest, bigger & better than before! For the 1st time ever, this annual event is held at their all new outlet in Orchard Central. Expect a night of all you can eat festive treats and drinks!. For more information, visit [ https://singpromos.com/dining-restaurants-food/morganfields-annual-all-you-can-eat-ribfest-to-return-at-orchard-central-on-25-nov-2017-208996/ ]. 
LOCATION:238896
URL:https://singpromos.com/dining-restaurants-food/morganfields-annual-all-you-can-eat-ribfest-to-return-at-orchard-central-on-25-nov-2017-208996/
END:VEVENT
END:VCALENDAR