BEGIN:VCALENDAR
PRODID:-//SINGPromos.com//NONSGML v1.0//EN
VERSION:2.0
CALSCALE:GREGORIAN
METHOD:PUBLISH
X-WR-CALNAME:SINGPromos.com
X-ORIGINAL-URL:https://singpromos.com
X-WR-CALDESC:Events for SINGPromos.com
BEGIN:VEVENT
DTSTART:20171027T000000
DTEND:20171027T235900
DTSTAMP:20260420T200125
CREATED:20171027T084135
LAST-MODIFIED:20171027T084333
UID:209120@https://singpromos.com
SUMMARY:Jetstar: Last chance to book $0 fares to Hong Kong, Perth & more! Ends 27 Oct 2017, 11pm
DESCRIPTION:Missed Jetstar's $0 fares past few Fridays? Last chance to book $0 flights to Hong Kong, Perth and more. Today only! The $0 fares are extremely limited so hurry and book now! Taxes $34 - $55 are payable and are subject to change.. For more information, visit [ https://singpromos.com/airlines-flights/jetstar-last-chance-to-book-0-fares-to-hong-kong-perth-more-ends-27-oct-2017-11pm-209120/ ]. 
LOCATION:
URL:https://singpromos.com/airlines-flights/jetstar-last-chance-to-book-0-fares-to-hong-kong-perth-more-ends-27-oct-2017-11pm-209120/
END:VEVENT
END:VCALENDAR