BEGIN:VCALENDAR
PRODID:-//SINGPromos.com//NONSGML v1.0//EN
VERSION:2.0
CALSCALE:GREGORIAN
METHOD:PUBLISH
X-WR-CALNAME:SINGPromos.com
X-ORIGINAL-URL:https://singpromos.com
X-WR-CALDESC:Events for SINGPromos.com
BEGIN:VEVENT
DTSTART:20171027T000000
DTEND:20171029T235900
DTSTAMP:20260420T055443
CREATED:20171027T130209
LAST-MODIFIED:20171027T135814
UID:209158@https://singpromos.com
SUMMARY:Dynasty Travel cruise carnival at Raffles City! From 27 - 29 Oct 2017
DESCRIPTION:Cruise with Dynasty Travel with special offers on various cruise lines coming your way this weekend! Visit them at Raffles City Garden Court from 27 - 29 October 2017 to book your next cruise holiday!. For more information, visit [ https://singpromos.com/happenings/dynasty-travel-cruise-carnival-at-raffles-city-from-27-29-oct-2017-209158/ ]. 
LOCATION:179103
URL:https://singpromos.com/happenings/dynasty-travel-cruise-carnival-at-raffles-city-from-27-29-oct-2017-209158/
END:VEVENT
END:VCALENDAR