BEGIN:VCALENDAR
PRODID:-//SINGPromos.com//NONSGML v1.0//EN
VERSION:2.0
CALSCALE:GREGORIAN
METHOD:PUBLISH
X-WR-CALNAME:SINGPromos.com
X-ORIGINAL-URL:https://singpromos.com
X-WR-CALDESC:Events for SINGPromos.com
BEGIN:VEVENT
DTSTART:20171103T000000
DTEND:20171105T235900
DTSTAMP:20260420T035047
CREATED:20171028T103836
LAST-MODIFIED:20171103T095712
UID:209200@https://singpromos.com
SUMMARY:Save up to 80% off North Face, Asics, On, Zoot & more at Outdoor Venture's Warehouse Clearance sale from 3 - 5 Nov 2017
DESCRIPTION:Outdoor Venture will be having a Warehouse Clearance Sale from 3 - 5 Nov, 11am - 8pm daily. Enjoy UP TO 80% OFF on Winter & Sports Apparel, Backpacks, Running & Hiking Shoes, Accessories and many more from The North Face, Asics & more. For more information, visit [ https://singpromos.com/warehouse-sales/save-up-to-80-off-north-face-asics-on-zoot-more-at-outdoor-ventures-warehouse-clearance-sale-from-3-5-nov-2017-209200/ ]. 
LOCATION:17 Kaki Bukit Crescent, 416248
URL:https://singpromos.com/warehouse-sales/save-up-to-80-off-north-face-asics-on-zoot-more-at-outdoor-ventures-warehouse-clearance-sale-from-3-5-nov-2017-209200/
END:VEVENT
END:VCALENDAR