BEGIN:VCALENDAR
PRODID:-//SINGPromos.com//NONSGML v1.0//EN
VERSION:2.0
CALSCALE:GREGORIAN
METHOD:PUBLISH
X-WR-CALNAME:SINGPromos.com
X-ORIGINAL-URL:https://singpromos.com
X-WR-CALDESC:Events for SINGPromos.com
BEGIN:VEVENT
DTSTART:20171101T000000
DTEND:20180331T235900
DTSTAMP:20260420T232527
CREATED:20171101T195336
LAST-MODIFIED:20171101T201453
UID:209389@https://singpromos.com
SUMMARY:Silkair early bird specials fr $136 all-in return! Book from now till 31 Mar 2018
DESCRIPTION:Making the most out of the right price at the right time with Silkair early bird specials. For booking and full terms and conditions, please click on the preferred fare.. For more information, visit [ https://singpromos.com/airlines-flights/silkair-early-bird-specials-fr-136-all-in-return-book-from-now-till-31-mar-2018-209389/ ]. 
LOCATION:
URL:https://singpromos.com/airlines-flights/silkair-early-bird-specials-fr-136-all-in-return-book-from-now-till-31-mar-2018-209389/
END:VEVENT
END:VCALENDAR