BEGIN:VCALENDAR
PRODID:-//SINGPromos.com//NONSGML v1.0//EN
VERSION:2.0
CALSCALE:GREGORIAN
METHOD:PUBLISH
X-WR-CALNAME:SINGPromos.com
X-ORIGINAL-URL:https://singpromos.com
X-WR-CALDESC:Events for SINGPromos.com
BEGIN:VEVENT
DTSTART:20171106T000000
DTEND:20171120T235900
DTSTAMP:20260420T021715
CREATED:20171106T114734
LAST-MODIFIED:20171106T114734
UID:209646@https://singpromos.com
SUMMARY:Malaysia Airlines: Fr $126 all-in return fares to over 40 destinations! Book from 6 - 20 Nov 2017
DESCRIPTION:Save up to 35% off Malaysia Airlines fares to over 40 destinations with Malaysia Airlines Year End Deals promotion! Book from now till 20 Nov 2017. For more information, visit [ https://singpromos.com/airlines-flights/malaysia-airlines-fr-126-all-in-return-fares-to-over-40-destinations-book-from-6-20-nov-2017-209646/ ]. 
LOCATION:
URL:https://singpromos.com/airlines-flights/malaysia-airlines-fr-126-all-in-return-fares-to-over-40-destinations-book-from-6-20-nov-2017-209646/
END:VEVENT
END:VCALENDAR