BEGIN:VCALENDAR
PRODID:-//SINGPromos.com//NONSGML v1.0//EN
VERSION:2.0
CALSCALE:GREGORIAN
METHOD:PUBLISH
X-WR-CALNAME:SINGPromos.com
X-ORIGINAL-URL:https://singpromos.com
X-WR-CALDESC:Events for SINGPromos.com
BEGIN:VEVENT
DTSTART:20171107T000000
DTEND:20171111T235900
DTSTAMP:20260420T200129
CREATED:20171107T142902
LAST-MODIFIED:20171107T142952
UID:209664@https://singpromos.com
SUMMARY:Jetstar fr $35 all-in sale fares to KL, Yangon, Bangkok and more! From 7 - 11 Nov 2017
DESCRIPTION:Ready. Set. Fly! Sale fares to 27 destinations, book now! Irresistible sale fares to Yangon, Bangkok and more! Travel by Sep 2018. One way economy Starter fares with 7kg carry-on baggage only.. For more information, visit [ https://singpromos.com/airlines-flights/jetstar-fr-35-all-in-sale-fares-to-kl-yangon-bangkok-and-more-from-7-11-nov-2017-209664/ ]. 
LOCATION:
URL:https://singpromos.com/airlines-flights/jetstar-fr-35-all-in-sale-fares-to-kl-yangon-bangkok-and-more-from-7-11-nov-2017-209664/
END:VEVENT
END:VCALENDAR