BEGIN:VCALENDAR
PRODID:-//SINGPromos.com//NONSGML v1.0//EN
VERSION:2.0
CALSCALE:GREGORIAN
METHOD:PUBLISH
X-WR-CALNAME:SINGPromos.com
X-ORIGINAL-URL:https://singpromos.com
X-WR-CALDESC:Events for SINGPromos.com
BEGIN:VEVENT
DTSTART:20171111T000000
DTEND:20171111T235900
DTSTAMP:20260420T231754
CREATED:20171110T135844
LAST-MODIFIED:20171111T124726
UID:209888@https://singpromos.com
SUMMARY:Zuji: 12% OFF hotels coupon code with NO min spend! Valid on 11 Nov 2017
DESCRIPTION:Search over 150,000 hotels at discounted rates and get an additional 12% OFF with this coupon code. Book a flight or flight+hotel package deal and enjoy up to $100 rebate on flight or package bookings.. For more information, visit [ https://singpromos.com/vacations/zuji-12-off-hotels-coupon-code-with-no-min-spend-valid-on-11-nov-2017-209888/ ]. 
LOCATION:
URL:https://singpromos.com/vacations/zuji-12-off-hotels-coupon-code-with-no-min-spend-valid-on-11-nov-2017-209888/
END:VEVENT
END:VCALENDAR