BEGIN:VCALENDAR
PRODID:-//SINGPromos.com//NONSGML v1.0//EN
VERSION:2.0
CALSCALE:GREGORIAN
METHOD:PUBLISH
X-WR-CALNAME:SINGPromos.com
X-ORIGINAL-URL:https://singpromos.com
X-WR-CALDESC:Events for SINGPromos.com
BEGIN:VEVENT
DTSTART:20171117T000000
DTEND:20171119T235900
DTSTAMP:20260420T073144
CREATED:20171110T200907
LAST-MODIFIED:20171110T200907
UID:209931@https://singpromos.com
SUMMARY:Shiseido (NARS, Tsubaki, Anessa, Senka, ZA) up to 70% OFF beauty sale! From 17 - 19 Nov 2017
DESCRIPTION:Shiseido Singapore will be having their Beauty Sales from 17th November to 19th November. Up to 70% OFF on your favourite skincare, cosmetics and personal care brands!. For more information, visit [ https://singpromos.com/warehouse-sales/shiseido-nars-tsubaki-anessa-senka-za-up-to-70-off-beauty-sale-from-17-19-nov-2017-209931/ ]. 
LOCATION:039593
URL:https://singpromos.com/warehouse-sales/shiseido-nars-tsubaki-anessa-senka-za-up-to-70-off-beauty-sale-from-17-19-nov-2017-209931/
END:VEVENT
END:VCALENDAR