BEGIN:VCALENDAR
PRODID:-//SINGPromos.com//NONSGML v1.0//EN
VERSION:2.0
CALSCALE:GREGORIAN
METHOD:PUBLISH
X-WR-CALNAME:SINGPromos.com
X-ORIGINAL-URL:https://singpromos.com
X-WR-CALDESC:Events for SINGPromos.com
BEGIN:VEVENT
DTSTART:20171111T000000
DTEND:20171203T235900
DTSTAMP:20260420T231749
CREATED:20171121T152505
LAST-MODIFIED:20171122T155540
UID:210385@https://singpromos.com
SUMMARY:Zuji: $8 to $33 OFF flights, hotels and packages coupon codes! Valid till 3 Dec 2017
DESCRIPTION:Search over 150,000 hotels at discounted rates and get an additional $8 to $33 OFF with this coupon code. Coupon codes are valid for travel by March 6, 2018. T&Cs apply.. For more information, visit [ https://singpromos.com/vacations/zuji-8-to-33-off-flights-hotels-and-packages-coupon-codes-valid-till-3-dec-2017-210385/ ]. 
LOCATION:
URL:https://singpromos.com/vacations/zuji-8-to-33-off-flights-hotels-and-packages-coupon-codes-valid-till-3-dec-2017-210385/
END:VEVENT
END:VCALENDAR