BEGIN:VCALENDAR
PRODID:-//SINGPromos.com//NONSGML v1.0//EN
VERSION:2.0
CALSCALE:GREGORIAN
METHOD:PUBLISH
X-WR-CALNAME:SINGPromos.com
X-ORIGINAL-URL:https://singpromos.com
X-WR-CALDESC:Events for SINGPromos.com
BEGIN:VEVENT
DTSTART:20171123T000000
DTEND:20171128T235900
DTSTAMP:20260422T082152
CREATED:20171123T001946
LAST-MODIFIED:20171123T002050
UID:210506@https://singpromos.com
SUMMARY:Charles & Keith: Up to 50% OFF selected styles Cyber Weekend sale! From 23 - 28 Nov 2017
DESCRIPTION:For a limited time, Charles & Keith is running an online Black Friday & Cyber Monday combined Cyber Weekend sale. Choose from an extensive range of fashion options - heels, flats, sandals, city bags, totes, shoulder bags, sunglasses, keychains, and more.. For more information, visit [ https://singpromos.com/fashion-accessories/charles-keith-up-to-50-off-selected-styles-cyber-weekend-sale-from-23-28-nov-2017-210506/ ]. 
LOCATION:
URL:https://singpromos.com/fashion-accessories/charles-keith-up-to-50-off-selected-styles-cyber-weekend-sale-from-23-28-nov-2017-210506/
END:VEVENT
END:VCALENDAR