BEGIN:VCALENDAR
PRODID:-//SINGPromos.com//NONSGML v1.0//EN
VERSION:2.0
CALSCALE:GREGORIAN
METHOD:PUBLISH
X-WR-CALNAME:SINGPromos.com
X-ORIGINAL-URL:https://singpromos.com
X-WR-CALDESC:Events for SINGPromos.com
BEGIN:VEVENT
DTSTART:20171124T000000
DTEND:20171126T235900
DTSTAMP:20260420T020911
CREATED:20171123T170553
LAST-MODIFIED:20171123T170553
UID:210590@https://singpromos.com
SUMMARY:Baby Baby 2017 fair at Singapore Expo from 24 - 26 Nov 2017
DESCRIPTION:An event for new and expectant parents, Baby Baby showcases a wide variety of products and services under one roof!. For more information, visit [ https://singpromos.com/warehouse-sales/baby-baby-2017-fair-at-singapore-expo-from-24-26-nov-2017-210590/ ]. 
LOCATION:486150
URL:https://singpromos.com/warehouse-sales/baby-baby-2017-fair-at-singapore-expo-from-24-26-nov-2017-210590/
END:VEVENT
END:VCALENDAR