BEGIN:VCALENDAR
PRODID:-//SINGPromos.com//NONSGML v1.0//EN
VERSION:2.0
CALSCALE:GREGORIAN
METHOD:PUBLISH
X-WR-CALNAME:SINGPromos.com
X-ORIGINAL-URL:https://singpromos.com
X-WR-CALDESC:Events for SINGPromos.com
BEGIN:VEVENT
DTSTART:20171124T000000
DTEND:20171124T235900
DTSTAMP:20260420T200124
CREATED:20171124T112004
LAST-MODIFIED:20171124T112005
UID:210653@https://singpromos.com
SUMMARY:Jetstar: Fr $35 all-in Friday Fare Frenzy fares to over 15 destinations! Ends 24 Nov 2017, 11pm
DESCRIPTION:The sale for the last Friday of November is now on! One way economy Starter fares with 7kg carry-on baggage only. Available until sale ends or fare is sold out. Not available on all flights or days. Availability may be limited.. For more information, visit [ https://singpromos.com/airlines-flights/jetstar-fr-35-all-in-friday-fare-frenzy-fares-to-over-15-destinations-ends-24-nov-2017-11pm-210653/ ]. 
LOCATION:
URL:https://singpromos.com/airlines-flights/jetstar-fr-35-all-in-friday-fare-frenzy-fares-to-over-15-destinations-ends-24-nov-2017-11pm-210653/
END:VEVENT
END:VCALENDAR