BEGIN:VCALENDAR
PRODID:-//SINGPromos.com//NONSGML v1.0//EN
VERSION:2.0
CALSCALE:GREGORIAN
METHOD:PUBLISH
X-WR-CALNAME:SINGPromos.com
X-ORIGINAL-URL:https://singpromos.com
X-WR-CALDESC:Events for SINGPromos.com
BEGIN:VEVENT
DTSTART:20171201T000000
DTEND:20171231T235900
DTSTAMP:20260422T082232
CREATED:20171201T000924
LAST-MODIFIED:20171126T181102
UID:210825@https://singpromos.com
SUMMARY:Up to 80% OFF Cerruti 1881, Kent & Curwen and Gieves & Hawkes holiday sale! From 1 - 31 Dec 2017
DESCRIPTION:Flash this page to enjoy additional savings! Hurry for the best selection. For more information, visit [ https://singpromos.com/fashion-accessories/up-to-80-off-cerruti-1881-kent-curwen-and-gieves-hawkes-holiday-sale-from-1-31-dec-2017-210825/ ]. 
LOCATION:
URL:https://singpromos.com/fashion-accessories/up-to-80-off-cerruti-1881-kent-curwen-and-gieves-hawkes-holiday-sale-from-1-31-dec-2017-210825/
END:VEVENT
END:VCALENDAR