BEGIN:VCALENDAR
PRODID:-//SINGPromos.com//NONSGML v1.0//EN
VERSION:2.0
CALSCALE:GREGORIAN
METHOD:PUBLISH
X-WR-CALNAME:SINGPromos.com
X-ORIGINAL-URL:https://singpromos.com
X-WR-CALDESC:Events for SINGPromos.com
BEGIN:VEVENT
DTSTART:20171128T000000
DTEND:20171128T235900
DTSTAMP:20260420T200230
CREATED:20171127T115245
LAST-MODIFIED:20171127T123055
UID:210861@https://singpromos.com
SUMMARY:Scoot: Fly fr $38 all-in to over 35 destinations one-day promo! Book on 28 Nov 2017, 7am to 2pm
DESCRIPTION:Get those taste buds going and feast in Qingdao from $158! Fly fr $38 all-in to over 35 destinations with Scoot's one-day sale and more promo fares tomorrow, Tuesday, 7am - 2pm with Scoot's one-day promotion.. For more information, visit [ https://singpromos.com/airlines-flights/scoot-fly-fr-38-all-in-to-over-35-destinations-one-day-promo-book-on-28-nov-2017-7am-to-2pm-210861/ ]. 
LOCATION:
URL:https://singpromos.com/airlines-flights/scoot-fly-fr-38-all-in-to-over-35-destinations-one-day-promo-book-on-28-nov-2017-7am-to-2pm-210861/
END:VEVENT
END:VCALENDAR