BEGIN:VCALENDAR
PRODID:-//SINGPromos.com//NONSGML v1.0//EN
VERSION:2.0
CALSCALE:GREGORIAN
METHOD:PUBLISH
X-WR-CALNAME:SINGPromos.com
X-ORIGINAL-URL:https://singpromos.com
X-WR-CALDESC:Events for SINGPromos.com
BEGIN:VEVENT
DTSTART:20171130T000000
DTEND:20171220T235900
DTSTAMP:20260424T032130
CREATED:20171130T140243
LAST-MODIFIED:20171130T141328
UID:211104@https://singpromos.com
SUMMARY:McDonald's: NEW Cony, Sally & Brown LINE FRIENDS handheld fans! From 30 Nov 2017
DESCRIPTION:Your favourite LINE FRIENDS, Cony, Sally and Brown, are in town to make your day cooler! Follow their journey and start collecting all three LINE FRIENDS handheld fans today. Only available at McDonald's.. For more information, visit [ https://singpromos.com/dining-restaurants-food/mcdonalds-new-cony-sally-brown-line-friends-handheld-fans-from-30-nov-2017-211104/ ]. 
LOCATION:
URL:https://singpromos.com/dining-restaurants-food/mcdonalds-new-cony-sally-brown-line-friends-handheld-fans-from-30-nov-2017-211104/
END:VEVENT
END:VCALENDAR