BEGIN:VCALENDAR
PRODID:-//SINGPromos.com//NONSGML v1.0//EN
VERSION:2.0
CALSCALE:GREGORIAN
METHOD:PUBLISH
X-WR-CALNAME:SINGPromos.com
X-ORIGINAL-URL:https://singpromos.com
X-WR-CALDESC:Events for SINGPromos.com
BEGIN:VEVENT
DTSTART:20111212T000000
DTEND:20111219T235900
DTSTAMP:20260420T214023
CREATED:20111214T014711
LAST-MODIFIED:20111219T195836
UID:21120@https://singpromos.com
SUMMARY:Hotels.Com 40% Off Christmas Sale 12 - 19 Dec 2011
DESCRIPTION:Save up to 40% on Hotels.com Christmas Sale today! Valid for travelling up to 30 Dec 2011, unless otherwise specified.. For more information, visit [ https://singpromos.com/vacations/hotels-com-40-off-christmas-sale-12-19-dec-2011-21120/ ]. 
LOCATION:
URL:https://singpromos.com/vacations/hotels-com-40-off-christmas-sale-12-19-dec-2011-21120/
END:VEVENT
END:VCALENDAR