BEGIN:VCALENDAR
PRODID:-//SINGPromos.com//NONSGML v1.0//EN
VERSION:2.0
CALSCALE:GREGORIAN
METHOD:PUBLISH
X-WR-CALNAME:SINGPromos.com
X-ORIGINAL-URL:https://singpromos.com
X-WR-CALDESC:Events for SINGPromos.com
BEGIN:VEVENT
DTSTART:20171205T000000
DTEND:20171217T235900
DTSTAMP:20260420T231806
CREATED:20171205T154413
LAST-MODIFIED:20171205T144053
UID:211398@https://singpromos.com
SUMMARY:Zuji: $8 OFF flights coupon code - no min spend required! Valid till 17 Dec 2017
DESCRIPTION:Search over 150,000 hotels at discounted rates! Get an additional $8 OFF flights with this coupon code. Coupon codes are valid for travel by March 6, 2018. T&Cs apply.. For more information, visit [ https://singpromos.com/vacations/zuji-8-off-flights-coupon-code-no-min-spend-required-valid-till-17-dec-2017-211398/ ]. 
LOCATION:
URL:https://singpromos.com/vacations/zuji-8-off-flights-coupon-code-no-min-spend-required-valid-till-17-dec-2017-211398/
END:VEVENT
END:VCALENDAR