BEGIN:VCALENDAR
PRODID:-//SINGPromos.com//NONSGML v1.0//EN
VERSION:2.0
CALSCALE:GREGORIAN
METHOD:PUBLISH
X-WR-CALNAME:SINGPromos.com
X-ORIGINAL-URL:https://singpromos.com
X-WR-CALDESC:Events for SINGPromos.com
BEGIN:VEVENT
DTSTART:20171211T000000
DTEND:20171213T235900
DTSTAMP:20260422T082231
CREATED:20171211T122408
LAST-MODIFIED:20171211T122408
UID:211591@https://singpromos.com
SUMMARY:Charles & Keith: Up to 50% OFF selected styles 12.12 Online Exclusive sale! From 11 - 13 Dec 2017
DESCRIPTION:For three days only, Charles & Keith is running an online 12.12 Online Exclusive sale featuring discounts of up to 50% OFF selected styles. For more information, visit [ https://singpromos.com/fashion-accessories/charles-keith-up-to-50-off-selected-styles-12-12-online-exclusive-sale-from-11-13-dec-2017-211591/ ]. 
LOCATION:
URL:https://singpromos.com/fashion-accessories/charles-keith-up-to-50-off-selected-styles-12-12-online-exclusive-sale-from-11-13-dec-2017-211591/
END:VEVENT
END:VCALENDAR