BEGIN:VCALENDAR
PRODID:-//SINGPromos.com//NONSGML v1.0//EN
VERSION:2.0
CALSCALE:GREGORIAN
METHOD:PUBLISH
X-WR-CALNAME:SINGPromos.com
X-ORIGINAL-URL:https://singpromos.com
X-WR-CALDESC:Events for SINGPromos.com
BEGIN:VEVENT
DTSTART:20171211T000000
DTEND:20171231T235900
DTSTAMP:20260420T231755
CREATED:20171211T124226
LAST-MODIFIED:20171211T124317
UID:211595@https://singpromos.com
SUMMARY:Zuji: 13% OFF hotels coupon code with Standard Chartered cards! Ends 31 Dec 2017
DESCRIPTION:Search over 150,000 hotels at discounted rates and get an additional 13% OFF with this coupon code for Standard Chartered cardmembers. Book a flight or flight+hotel package deal and enjoy up to 6% rebate on flight and package bookings.. For more information, visit [ https://singpromos.com/vacations/zuji-13-off-hotels-coupon-code-with-standard-chartered-cards-ends-31-dec-2017-211595/ ]. 
LOCATION:
URL:https://singpromos.com/vacations/zuji-13-off-hotels-coupon-code-with-standard-chartered-cards-ends-31-dec-2017-211595/
END:VEVENT
END:VCALENDAR