BEGIN:VCALENDAR
PRODID:-//SINGPromos.com//NONSGML v1.0//EN
VERSION:2.0
CALSCALE:GREGORIAN
METHOD:PUBLISH
X-WR-CALNAME:SINGPromos.com
X-ORIGINAL-URL:https://singpromos.com
X-WR-CALDESC:Events for SINGPromos.com
BEGIN:VEVENT
DTSTART:20171212T000000
DTEND:20171217T235900
DTSTAMP:20260420T200128
CREATED:20171212T120814
LAST-MODIFIED:20171212T120814
UID:211655@https://singpromos.com
SUMMARY:Jetstar: Over 25 destinations on sale fr $35 all-in! Book from now till 17 Dec 2017
DESCRIPTION:Travel in style with these sale fares! Hurry, sale ends 17 Dec! One way economy Starter fares with 7kg carry-on baggage only. Available until sale ends or fare is sold out.. For more information, visit [ https://singpromos.com/airlines-flights/jetstar-over-25-destinations-on-sale-fr-35-all-in-book-from-now-till-17-dec-2017-211655/ ]. 
LOCATION:
URL:https://singpromos.com/airlines-flights/jetstar-over-25-destinations-on-sale-fr-35-all-in-book-from-now-till-17-dec-2017-211655/
END:VEVENT
END:VCALENDAR