BEGIN:VCALENDAR
PRODID:-//SINGPromos.com//NONSGML v1.0//EN
VERSION:2.0
CALSCALE:GREGORIAN
METHOD:PUBLISH
X-WR-CALNAME:SINGPromos.com
X-ORIGINAL-URL:https://singpromos.com
X-WR-CALDESC:Events for SINGPromos.com
BEGIN:VEVENT
DTSTART:20111214T000000
DTEND:20111231T235900
DTSTAMP:20260420T021717
CREATED:20111215T031025
LAST-MODIFIED:20111216T154015
UID:21186@https://singpromos.com
SUMMARY:Malaysia Airlines Promotion Air Fare Offers 14 - 31 Dec 2011
DESCRIPTION:Let it snow, let it glow, the year's almost over, it's time to go, go, go! Act fast and fly now with these Malaysia Airlines irresistible fares. For more information, visit [ https://singpromos.com/airlines-flights/malaysia-airlines-promotion-air-fare-offers-14-dec-2011-21186/ ]. 
LOCATION:
URL:https://singpromos.com/airlines-flights/malaysia-airlines-promotion-air-fare-offers-14-dec-2011-21186/
END:VEVENT
END:VCALENDAR