BEGIN:VCALENDAR
PRODID:-//SINGPromos.com//NONSGML v1.0//EN
VERSION:2.0
CALSCALE:GREGORIAN
METHOD:PUBLISH
X-WR-CALNAME:SINGPromos.com
X-ORIGINAL-URL:https://singpromos.com
X-WR-CALDESC:Events for SINGPromos.com
BEGIN:VEVENT
DTSTART:20171218T000000
DTEND:20171231T235900
DTSTAMP:20260420T021716
CREATED:20171218T141015
LAST-MODIFIED:20171218T141015
UID:211883@https://singpromos.com
SUMMARY:Malaysia Airlines: Promo fares fr $118 all-in to over 40 destinations! Ends 31 Dec 2017
DESCRIPTION:Treat yourself to your dream holiday with Malaysia Airlines's latest promo fares to over 40 destinations from $118 all-in return! Book by 31 Dec 2017.. For more information, visit [ https://singpromos.com/airlines-flights/malaysia-airlines-promo-fares-fr-118-all-in-to-over-40-destinations-ends-31-dec-2017-211883/ ]. 
LOCATION:
URL:https://singpromos.com/airlines-flights/malaysia-airlines-promo-fares-fr-118-all-in-to-over-40-destinations-ends-31-dec-2017-211883/
END:VEVENT
END:VCALENDAR