BEGIN:VCALENDAR
PRODID:-//SINGPromos.com//NONSGML v1.0//EN
VERSION:2.0
CALSCALE:GREGORIAN
METHOD:PUBLISH
X-WR-CALNAME:SINGPromos.com
X-ORIGINAL-URL:https://singpromos.com
X-WR-CALDESC:Events for SINGPromos.com
BEGIN:VEVENT
DTSTART:20171226T000000
DTEND:20171227T235900
DTSTAMP:20260420T200229
CREATED:20171225T121122
LAST-MODIFIED:20171226T213229
UID:212133@https://singpromos.com
SUMMARY:Scoot: Fly fr $35 all-in to over 50 destinations two-to-go promo! Book from 26 - 27 Dec 2017
DESCRIPTION:Fly fr $35 all-in to over 50 destinations with Scoot's two-day sale and more promo fares tomorrow, Tuesday, 7am to Wednesday 1159pm with Scoot's promotion.. For more information, visit [ https://singpromos.com/airlines-flights/scoot-fly-fr-35-all-in-to-over-50-destinations-two-to-go-promo-book-on-26-dec-2017-7am-to-1159pm-212133/ ]. 
LOCATION:
URL:https://singpromos.com/airlines-flights/scoot-fly-fr-35-all-in-to-over-50-destinations-two-to-go-promo-book-on-26-dec-2017-7am-to-1159pm-212133/
END:VEVENT
END:VCALENDAR