BEGIN:VCALENDAR
PRODID:-//SINGPromos.com//NONSGML v1.0//EN
VERSION:2.0
CALSCALE:GREGORIAN
METHOD:PUBLISH
X-WR-CALNAME:SINGPromos.com
X-ORIGINAL-URL:https://singpromos.com
X-WR-CALDESC:Events for SINGPromos.com
BEGIN:VEVENT
DTSTART:20171226T000000
DTEND:20171230T235900
DTSTAMP:20260420T214039
CREATED:20171226T144859
LAST-MODIFIED:20171226T145047
UID:212158@https://singpromos.com
SUMMARY:Jetstar Airways: Fr $36 all-in to over 20 destinations boxing day fares sale! Ends 30 Dec 2017
DESCRIPTION:Boxing Day Sale starts now! Time to unwrap your Boxing Day deals. Promotional fares quoted are inclusive of taxes, fees and 7kg checked baggage allowance.. For more information, visit [ https://singpromos.com/airlines-flights/jetstar-airways-fr-36-all-in-to-over-20-destinations-boxing-day-fares-sale-ends-30-dec-2017-212158/ ]. 
LOCATION:
URL:https://singpromos.com/airlines-flights/jetstar-airways-fr-36-all-in-to-over-20-destinations-boxing-day-fares-sale-ends-30-dec-2017-212158/
END:VEVENT
END:VCALENDAR