BEGIN:VCALENDAR
PRODID:-//SINGPromos.com//NONSGML v1.0//EN
VERSION:2.0
CALSCALE:GREGORIAN
METHOD:PUBLISH
X-WR-CALNAME:SINGPromos.com
X-ORIGINAL-URL:https://singpromos.com
X-WR-CALDESC:Events for SINGPromos.com
BEGIN:VEVENT
DTSTART:20180102T000000
DTEND:20180106T235900
DTSTAMP:20260420T214057
CREATED:20180102T103101
LAST-MODIFIED:20180102T103101
UID:212451@https://singpromos.com
SUMMARY:Scoot: Promo fares fr $36 all-in to over 60 destinations! Book by 6 Jan 2018
DESCRIPTION:Admit it, you're missing that wonderful winter trip you took recently. Cure your post holiday blues by planning your next trip with Scoot's back-to-work sale fares from just $36*!. For more information, visit [ https://singpromos.com/airlines-flights/scoot-promo-fares-fr-36-all-in-to-over-60-destinations-book-by-6-jan-2018-212451/ ]. 
LOCATION:
URL:https://singpromos.com/airlines-flights/scoot-promo-fares-fr-36-all-in-to-over-60-destinations-book-by-6-jan-2018-212451/
END:VEVENT
END:VCALENDAR