BEGIN:VCALENDAR
PRODID:-//SINGPromos.com//NONSGML v1.0//EN
VERSION:2.0
CALSCALE:GREGORIAN
METHOD:PUBLISH
X-WR-CALNAME:SINGPromos.com
X-ORIGINAL-URL:https://singpromos.com
X-WR-CALDESC:Events for SINGPromos.com
BEGIN:VEVENT
DTSTART:20180106T000000
DTEND:20180331T235900
DTSTAMP:20260424T002648
CREATED:20180105T144410
LAST-MODIFIED:20180105T144944
UID:212605@https://singpromos.com
SUMMARY:Shaw Theatres: 1-FOR-1 weekend movie tickets for SAFRA members! From 6 Jan - 31 Mar 2018
DESCRIPTION:SAFRA members enjoy 1 for 1 weekend movie tickets at Shaw Theatres! Purchase a full-priced ticket at $12.50 and get your second ticket FREE every Saturday and Sunday* with your SAFRA card.. For more information, visit [ https://singpromos.com/places-of-interest/shaw-theatres-1-for-1-weekend-movie-tickets-for-safra-members-from-6-jan-31-mar-2018-212605/ ]. 
LOCATION:
URL:https://singpromos.com/places-of-interest/shaw-theatres-1-for-1-weekend-movie-tickets-for-safra-members-from-6-jan-31-mar-2018-212605/
END:VEVENT
END:VCALENDAR