BEGIN:VCALENDAR
PRODID:-//SINGPromos.com//NONSGML v1.0//EN
VERSION:2.0
CALSCALE:GREGORIAN
METHOD:PUBLISH
X-WR-CALNAME:SINGPromos.com
X-ORIGINAL-URL:https://singpromos.com
X-WR-CALDESC:Events for SINGPromos.com
BEGIN:VEVENT
DTSTART:20180105T000000
DTEND:20180107T235900
DTSTAMP:20260420T214057
CREATED:20180105T120602
LAST-MODIFIED:20180105T120602
UID:212645@https://singpromos.com
SUMMARY:Jetstar: Weekend Fare Frenzy promo fares fr $38 all-in to over 20 destinations! Book by 7 Jan 2018
DESCRIPTION:It's the first weekend of 2018! Make it extra special by booking jetstar.com flights for your next holiday! Fly from Singapore to: Kuala Lumpur $38; Hat Yai $39; Jakarta $39. For more information, visit [ https://singpromos.com/airlines-flights/jetstar-weekend-fare-frenzy-promo-fares-fr-38-all-in-to-over-20-destinations-book-by-7-jan-2018-212645/ ]. 
LOCATION:
URL:https://singpromos.com/airlines-flights/jetstar-weekend-fare-frenzy-promo-fares-fr-38-all-in-to-over-20-destinations-book-by-7-jan-2018-212645/
END:VEVENT
END:VCALENDAR