BEGIN:VCALENDAR
PRODID:-//SINGPromos.com//NONSGML v1.0//EN
VERSION:2.0
CALSCALE:GREGORIAN
METHOD:PUBLISH
X-WR-CALNAME:SINGPromos.com
X-ORIGINAL-URL:https://singpromos.com
X-WR-CALDESC:Events for SINGPromos.com
BEGIN:VEVENT
DTSTART:20180109T000000
DTEND:20180109T235900
DTSTAMP:20260420T214057
CREATED:20180108T123748
LAST-MODIFIED:20180108T123748
UID:212749@https://singpromos.com
SUMMARY:Scoot: Fly fr $37 all-in to over 35 destinations one-day promo! Book on 9 Jan 2018, 7am to 2pm
DESCRIPTION:Tempurary escape? Scoot to Osaka from $168!! Fly fr $37 all-in to over 35 destinations with Scoot's one-day sale and more promo fares tomorrow, Tuesday, 7am - 2pm with Scoot's one-day promotion.. For more information, visit [ https://singpromos.com/airlines-flights/scoot-fly-fr-37-all-in-to-over-35-destinations-one-day-promo-book-on-9-jan-2018-7am-to-2pm-212749/ ]. 
LOCATION:
URL:https://singpromos.com/airlines-flights/scoot-fly-fr-37-all-in-to-over-35-destinations-one-day-promo-book-on-9-jan-2018-7am-to-2pm-212749/
END:VEVENT
END:VCALENDAR