BEGIN:VCALENDAR
PRODID:-//SINGPromos.com//NONSGML v1.0//EN
VERSION:2.0
CALSCALE:GREGORIAN
METHOD:PUBLISH
X-WR-CALNAME:SINGPromos.com
X-ORIGINAL-URL:https://singpromos.com
X-WR-CALDESC:Events for SINGPromos.com
BEGIN:VEVENT
DTSTART:20180108T000000
DTEND:20180112T235900
DTSTAMP:20260422T082146
CREATED:20180108T201906
LAST-MODIFIED:20180108T201906
UID:212785@https://singpromos.com
SUMMARY:Boyle's Coffee x Cold Brew Bar offers 1-FOR-1 coffee from 8 - 12 Jan 2018
DESCRIPTION:The World's First Cold Brew Coffee Bar! Boyle's Coffee x Cold Brew Bar is officially opened today. Enjoy Buy 1 Get 1 Free for the first week only.. For more information, visit [ https://singpromos.com/dining-restaurants-food/boyles-coffee-x-cold-brew-bar-offers-1-for-1-coffee-from-8-12-jan-2018-212785/ ]. 
LOCATION:038983
URL:https://singpromos.com/dining-restaurants-food/boyles-coffee-x-cold-brew-bar-offers-1-for-1-coffee-from-8-12-jan-2018-212785/
END:VEVENT
END:VCALENDAR