BEGIN:VCALENDAR
PRODID:-//SINGPromos.com//NONSGML v1.0//EN
VERSION:2.0
CALSCALE:GREGORIAN
METHOD:PUBLISH
X-WR-CALNAME:SINGPromos.com
X-ORIGINAL-URL:https://singpromos.com
X-WR-CALDESC:Events for SINGPromos.com
BEGIN:VEVENT
DTSTART:20180109T000000
DTEND:20180122T235900
DTSTAMP:20260422T082310
CREATED:20180110T113720
LAST-MODIFIED:20180111T103322
UID:212847@https://singpromos.com
SUMMARY:Delifrance: 1-FOR-1 baked rice (Chicken Rendang & Turkey Meltz) at ALL outlets! Till 22 Jan 2018
DESCRIPTION:Delifrance's new baked rice is Chicken Rendang! They are offering a 1-for-1 Baked Rice Deal at ALL Délifrance outlets! Get your hands on them before they are sold out!. For more information, visit [ https://singpromos.com/dining-restaurants-food/delifrance-1-for-1-baked-rice-chicken-rendang-turkey-meltz-at-all-outlets-till-22-jan-2018-212847/ ]. 
LOCATION:
URL:https://singpromos.com/dining-restaurants-food/delifrance-1-for-1-baked-rice-chicken-rendang-turkey-meltz-at-all-outlets-till-22-jan-2018-212847/
END:VEVENT
END:VCALENDAR