BEGIN:VCALENDAR
PRODID:-//SINGPromos.com//NONSGML v1.0//EN
VERSION:2.0
CALSCALE:GREGORIAN
METHOD:PUBLISH
X-WR-CALNAME:SINGPromos.com
X-ORIGINAL-URL:https://singpromos.com
X-WR-CALDESC:Events for SINGPromos.com
BEGIN:VEVENT
DTSTART:20180111T000000
DTEND:20180113T235900
DTSTAMP:20260420T231804
CREATED:20180111T003810
LAST-MODIFIED:20180111T003810
UID:212873@https://singpromos.com
SUMMARY:Zuji: $20 OFF flights coupon code valid with $200 min spend! Valid till 13 Jan 2018
DESCRIPTION:Search over 150,000 hotels at discounted rates! Get an additional $20 OFF flights with this coupon code. T&Cs apply.. For more information, visit [ https://singpromos.com/vacations/zuji-20-off-flights-coupon-code-valid-with-200-min-spend-valid-till-13-jan-2018-212873/ ]. 
LOCATION:
URL:https://singpromos.com/vacations/zuji-20-off-flights-coupon-code-valid-with-200-min-spend-valid-till-13-jan-2018-212873/
END:VEVENT
END:VCALENDAR