BEGIN:VCALENDAR
PRODID:-//SINGPromos.com//NONSGML v1.0//EN
VERSION:2.0
CALSCALE:GREGORIAN
METHOD:PUBLISH
X-WR-CALNAME:SINGPromos.com
X-ORIGINAL-URL:https://singpromos.com
X-WR-CALDESC:Events for SINGPromos.com
BEGIN:VEVENT
DTSTART:20180112T000000
DTEND:20180118T235900
DTSTAMP:20260420T231901
CREATED:20180111T183547
LAST-MODIFIED:20180111T183547
UID:212910@https://singpromos.com
SUMMARY:Zuji: 11% OFF flights coupon code - no min spend required! Valid till 18 Jan 2018
DESCRIPTION:Search over 150,000 hotels at discounted rates! Get an additional 11% OFF flights with this coupon code. Coupon codes are valid for travel by March 6, 2018. T&Cs apply.. For more information, visit [ https://singpromos.com/vacations/zuji-11-off-flights-coupon-code-no-min-spend-required-valid-till-18-jan-2018-212910/ ]. 
LOCATION:
URL:https://singpromos.com/vacations/zuji-11-off-flights-coupon-code-no-min-spend-required-valid-till-18-jan-2018-212910/
END:VEVENT
END:VCALENDAR