BEGIN:VCALENDAR
PRODID:-//SINGPromos.com//NONSGML v1.0//EN
VERSION:2.0
CALSCALE:GREGORIAN
METHOD:PUBLISH
X-WR-CALNAME:SINGPromos.com
X-ORIGINAL-URL:https://singpromos.com
X-WR-CALDESC:Events for SINGPromos.com
BEGIN:VEVENT
DTSTART:20180113T000000
DTEND:20180114T235900
DTSTAMP:20260420T005557
CREATED:20180113T002348
LAST-MODIFIED:20180113T002348
UID:212945@https://singpromos.com
SUMMARY:Qoo10: Grab free $5 and $50 cart coupons! From 13 - 14 Jan 2018
DESCRIPTION:Qoo10 is running a Exclusive Rewards promotion featuring free cart coupons worth $5 & $50. Coupons can only be received during the event period. For more information, visit [ https://singpromos.com/department-stores/qoo10-grab-free-5-and-50-cart-coupons-from-13-14-jan-2018-212945/ ]. 
LOCATION:
URL:https://singpromos.com/department-stores/qoo10-grab-free-5-and-50-cart-coupons-from-13-14-jan-2018-212945/
END:VEVENT
END:VCALENDAR