BEGIN:VCALENDAR
PRODID:-//SINGPromos.com//NONSGML v1.0//EN
VERSION:2.0
CALSCALE:GREGORIAN
METHOD:PUBLISH
X-WR-CALNAME:SINGPromos.com
X-ORIGINAL-URL:https://singpromos.com
X-WR-CALDESC:Events for SINGPromos.com
BEGIN:VEVENT
DTSTART:20180116T000000
DTEND:20180116T235900
DTSTAMP:20260420T214039
CREATED:20180115T124530
LAST-MODIFIED:20180115T124718
UID:212994@https://singpromos.com
SUMMARY:Scoot: Two-to-go sale - Fly fr $35 all-in to over 50 destinations! Book on 16 Jan 2018, 7am to 2pm
DESCRIPTION:Two-to-go SALE! Grab your paradise partner and fly from $35!Fly fr $35 all-in to over 50 destinations with Scoot's one-day sale and more promo fares tomorrow, Tuesday, 7am - 2pm with Scoot's one-day promotion.. For more information, visit [ https://singpromos.com/airlines-flights/scoot-two-to-go-sale-fly-fr-35-all-in-to-over-50-destinations-book-on-16-jan-2018-7am-to-2pm-212994/ ]. 
LOCATION:
URL:https://singpromos.com/airlines-flights/scoot-two-to-go-sale-fly-fr-35-all-in-to-over-50-destinations-book-on-16-jan-2018-7am-to-2pm-212994/
END:VEVENT
END:VCALENDAR