BEGIN:VCALENDAR
PRODID:-//SINGPromos.com//NONSGML v1.0//EN
VERSION:2.0
CALSCALE:GREGORIAN
METHOD:PUBLISH
X-WR-CALNAME:SINGPromos.com
X-ORIGINAL-URL:https://singpromos.com
X-WR-CALDESC:Events for SINGPromos.com
BEGIN:VEVENT
DTSTART:20180117T000000
DTEND:20180211T235900
DTSTAMP:20260420T231902
CREATED:20180117T141133
LAST-MODIFIED:20180117T141133
UID:213061@https://singpromos.com
SUMMARY:Zuji: 5% to 12% OFF flights, hotels and packages coupon codes! Valid till 11 Feb 2018
DESCRIPTION:Search over 150,000 hotels at discounted rates and get an additional 5% to 12% OFF with this coupon code. Coupon codes are valid for travel by 31 July 2018. T&Cs apply.. For more information, visit [ https://singpromos.com/vacations/zuji-5-to-12-off-flights-hotels-and-packages-coupon-codes-valid-till-11-feb-2018-213061/ ]. 
LOCATION:
URL:https://singpromos.com/vacations/zuji-5-to-12-off-flights-hotels-and-packages-coupon-codes-valid-till-11-feb-2018-213061/
END:VEVENT
END:VCALENDAR