BEGIN:VCALENDAR
PRODID:-//SINGPromos.com//NONSGML v1.0//EN
VERSION:2.0
CALSCALE:GREGORIAN
METHOD:PUBLISH
X-WR-CALNAME:SINGPromos.com
X-ORIGINAL-URL:https://singpromos.com
X-WR-CALDESC:Events for SINGPromos.com
BEGIN:VEVENT
DTSTART:20180119T000000
DTEND:20180119T235900
DTSTAMP:20260420T214057
CREATED:20180119T105130
LAST-MODIFIED:20180119T105212
UID:213141@https://singpromos.com
SUMMARY:Jetstar: Over 15 destinations on sale fr $38 all-in! Book from now till 19 Jan 2018, 11pm
DESCRIPTION:Jetstar Frenzy Fares promotion is back featuring sale fares of up to 56% off! Taipei, Phuket and more on sale. Fly from Singapore to: Kuala Lumpur $38, Penang $39, Hat Yai $39, Pekanbaru $42, Phuket $44, Medan $45, Ho Chi Minh City $49 and many more. For more information, visit [ https://singpromos.com/airlines-flights/jetstar-over-15-destinations-on-sale-fr-38-all-in-book-from-now-till-19-jan-2018-11pm-213141/ ]. 
LOCATION:
URL:https://singpromos.com/airlines-flights/jetstar-over-15-destinations-on-sale-fr-38-all-in-book-from-now-till-19-jan-2018-11pm-213141/
END:VEVENT
END:VCALENDAR