BEGIN:VCALENDAR
PRODID:-//SINGPromos.com//NONSGML v1.0//EN
VERSION:2.0
CALSCALE:GREGORIAN
METHOD:PUBLISH
X-WR-CALNAME:SINGPromos.com
X-ORIGINAL-URL:https://singpromos.com
X-WR-CALDESC:Events for SINGPromos.com
BEGIN:VEVENT
DTSTART:20180127T000000
DTEND:20180128T235900
DTSTAMP:20260420T055454
CREATED:20180125T103710
LAST-MODIFIED:20180125T103710
UID:213364@https://singpromos.com
SUMMARY:Dynasty Travel 40th Anniversary Celebration Fair at Suntec from 27 - 28 Jan 2018
DESCRIPTION:Visit Dynasty Travel this weekend at Suntec West Atrium, 27 - 28 January 2018 from 11am - 8pm for their 40th Anniversary Celebration Fair!. For more information, visit [ https://singpromos.com/happenings/dynasty-travel-40th-anniversary-celebration-fair-at-suntec-from-27-28-jan-2018-213364/ ]. 
LOCATION:038983
URL:https://singpromos.com/happenings/dynasty-travel-40th-anniversary-celebration-fair-at-suntec-from-27-28-jan-2018-213364/
END:VEVENT
END:VCALENDAR