BEGIN:VCALENDAR
PRODID:-//SINGPromos.com//NONSGML v1.0//EN
VERSION:2.0
CALSCALE:GREGORIAN
METHOD:PUBLISH
X-WR-CALNAME:SINGPromos.com
X-ORIGINAL-URL:https://singpromos.com
X-WR-CALDESC:Events for SINGPromos.com
BEGIN:VEVENT
DTSTART:20180125T000000
DTEND:20180127T235900
DTSTAMP:20260420T231908
CREATED:20180125T120343
LAST-MODIFIED:20180125T120343
UID:213388@https://singpromos.com
SUMMARY:Zuji: 15% OFF hotels coupon code valid till 27 Jan 2018
DESCRIPTION:Search over 150,000 hotels at discounted rates! Get an additional 15% OFF Hotels with this coupon code. T&Cs apply.. For more information, visit [ https://singpromos.com/vacations/zuji-15-off-hotels-coupon-code-valid-till-27-jan-2018-213388/ ]. 
LOCATION:
URL:https://singpromos.com/vacations/zuji-15-off-hotels-coupon-code-valid-till-27-jan-2018-213388/
END:VEVENT
END:VCALENDAR