BEGIN:VCALENDAR
PRODID:-//SINGPromos.com//NONSGML v1.0//EN
VERSION:2.0
CALSCALE:GREGORIAN
METHOD:PUBLISH
X-WR-CALNAME:SINGPromos.com
X-ORIGINAL-URL:https://singpromos.com
X-WR-CALDESC:Events for SINGPromos.com
BEGIN:VEVENT
DTSTART:20180218T000000
DTEND:20180228T235900
DTSTAMP:20260422T212626
CREATED:20180125T162430
LAST-MODIFIED:20180125T152502
UID:213402@https://singpromos.com
SUMMARY:M1 roadshow at YewTee Point from 18 - 28 Feb 2018
DESCRIPTION:M1 will be having a roadshow at YewTee Point.. For more information, visit [ https://singpromos.com/happenings/m1-roadshow-at-yewtee-point-from-18-28-feb-2018-213402/ ]. 
LOCATION:689578
URL:https://singpromos.com/happenings/m1-roadshow-at-yewtee-point-from-18-28-feb-2018-213402/
END:VEVENT
END:VCALENDAR