BEGIN:VCALENDAR
PRODID:-//SINGPromos.com//NONSGML v1.0//EN
VERSION:2.0
CALSCALE:GREGORIAN
METHOD:PUBLISH
X-WR-CALNAME:SINGPromos.com
X-ORIGINAL-URL:https://singpromos.com
X-WR-CALDESC:Events for SINGPromos.com
BEGIN:VEVENT
DTSTART:20180201T000000
DTEND:20180214T235900
DTSTAMP:20260422T082148
CREATED:20180201T113842
LAST-MODIFIED:20180201T113859
UID:213671@https://singpromos.com
SUMMARY:Grohe: 50% OFF all reg-priced items at IMM outlet from 1 - 14 Feb 2018
DESCRIPTION:Enjoy 50% off on all Grohe regular priced items till 14 Feb 2018. While stocks last. Terms and conditions Apply.. For more information, visit [ https://singpromos.com/household/grohe-50-off-all-reg-priced-items-at-imm-outlet-from-1-14-feb-2018-213671/ ]. 
LOCATION:
URL:https://singpromos.com/household/grohe-50-off-all-reg-priced-items-at-imm-outlet-from-1-14-feb-2018-213671/
END:VEVENT
END:VCALENDAR