BEGIN:VCALENDAR
PRODID:-//SINGPromos.com//NONSGML v1.0//EN
VERSION:2.0
CALSCALE:GREGORIAN
METHOD:PUBLISH
X-WR-CALNAME:SINGPromos.com
X-ORIGINAL-URL:https://singpromos.com
X-WR-CALDESC:Events for SINGPromos.com
BEGIN:VEVENT
DTSTART:20180202T000000
DTEND:20180204T235900
DTSTAMP:20260420T214056
CREATED:20180201T230455
LAST-MODIFIED:20180202T153320
UID:213742@https://singpromos.com
SUMMARY:Scoot: Save 20% on over 50 destinations with UOB cards! Book from 2 - 4 Feb 2018
DESCRIPTION:Take a bae-cation! Save 20% off on over 50 Scoot destinations with UOB cards! Enter Promocode ILOVEUOB to get 20% off eligible Economy and ScootBiz fares. Sale Period : 1000hr 02 Feb 2018 (Fri) - 2359hr 04 Feb 2018 (Sun). For more information, visit [ https://singpromos.com/airlines-flights/scoot-save-20-on-over-50-destinations-with-uob-cards-book-from-2-4-feb-2018-213742/ ]. 
LOCATION:
URL:https://singpromos.com/airlines-flights/scoot-save-20-on-over-50-destinations-with-uob-cards-book-from-2-4-feb-2018-213742/
END:VEVENT
END:VCALENDAR