BEGIN:VCALENDAR
PRODID:-//SINGPromos.com//NONSGML v1.0//EN
VERSION:2.0
CALSCALE:GREGORIAN
METHOD:PUBLISH
X-WR-CALNAME:SINGPromos.com
X-ORIGINAL-URL:https://singpromos.com
X-WR-CALDESC:Events for SINGPromos.com
BEGIN:VEVENT
DTSTART:20180202T000000
DTEND:20180331T235900
DTSTAMP:20260420T060414
CREATED:20180206T184743
LAST-MODIFIED:20180206T184842
UID:213935@https://singpromos.com
SUMMARY:Morganfield's: 1-FOR-1 Half Slab Sticky Bones at 4 outlets for Singtel customers! Valid till 31 Mar 2018
DESCRIPTION:Enjoy 1-for-1 Half Slab Sticky Bones at Morganfield's and indulge in authentic, pork spare ribs slow-cooked to tender mouth-watering perfection! Exclusively for Singtel customers only! Limited redemptions only, while stocks last!. For more information, visit [ https://singpromos.com/dining-restaurants-food/morganfields-1-for-1-half-slab-sticky-bones-at-4-outlets-for-singtel-customers-valid-till-31-mar-2018-213935/ ]. 
LOCATION:
URL:https://singpromos.com/dining-restaurants-food/morganfields-1-for-1-half-slab-sticky-bones-at-4-outlets-for-singtel-customers-valid-till-31-mar-2018-213935/
END:VEVENT
END:VCALENDAR