BEGIN:VCALENDAR
PRODID:-//SINGPromos.com//NONSGML v1.0//EN
VERSION:2.0
CALSCALE:GREGORIAN
METHOD:PUBLISH
X-WR-CALNAME:SINGPromos.com
X-ORIGINAL-URL:https://singpromos.com
X-WR-CALDESC:Events for SINGPromos.com
BEGIN:VEVENT
DTSTART:20180213T000000
DTEND:20180214T235900
DTSTAMP:20260420T214057
CREATED:20180212T145417
LAST-MODIFIED:20180212T150701
UID:214168@https://singpromos.com
SUMMARY:Scoot: Two-to-go sale - Fly fr $36 all-in to over 50 destinations! Book from 13 - 14 Feb 2018
DESCRIPTION:Two-to-go SALE! Grab a bae-cation this Vday! Fly fr $36 all-in to over 50 destinations with Scoot's sale and more promo fares starting tomorrow, Tuesday, 7am to Wednesday, 2359hrs. For more information, visit [ https://singpromos.com/airlines-flights/scoot-two-to-go-sale-fly-fr-36-all-in-to-over-50-destinations-book-from-13-14-feb-2018-214168/ ]. 
LOCATION:
URL:https://singpromos.com/airlines-flights/scoot-two-to-go-sale-fly-fr-36-all-in-to-over-50-destinations-book-from-13-14-feb-2018-214168/
END:VEVENT
END:VCALENDAR