BEGIN:VCALENDAR
PRODID:-//SINGPromos.com//NONSGML v1.0//EN
VERSION:2.0
CALSCALE:GREGORIAN
METHOD:PUBLISH
X-WR-CALNAME:SINGPromos.com
X-ORIGINAL-URL:https://singpromos.com
X-WR-CALDESC:Events for SINGPromos.com
BEGIN:VEVENT
DTSTART:20180223T000000
DTEND:20180224T235900
DTSTAMP:20260419T213852
CREATED:20180221T135736
LAST-MODIFIED:20180221T135830
UID:214353@https://singpromos.com
SUMMARY:Chingay Parade 2018 at F1 Pit Building from 23 - 24 Feb 2018
DESCRIPTION:Vibrant floats, dancing dragons, prancing lions, stilt walkers, wushu masters, performers of different races in their traditional costumes and many, many more.... For more information, visit [ https://singpromos.com/happenings/chingay-parade-2018-at-f1-pit-building-from-23-24-feb-2018-214353/ ]. 
LOCATION:038975
URL:https://singpromos.com/happenings/chingay-parade-2018-at-f1-pit-building-from-23-24-feb-2018-214353/
END:VEVENT
END:VCALENDAR