BEGIN:VCALENDAR
PRODID:-//SINGPromos.com//NONSGML v1.0//EN
VERSION:2.0
CALSCALE:GREGORIAN
METHOD:PUBLISH
X-WR-CALNAME:SINGPromos.com
X-ORIGINAL-URL:https://singpromos.com
X-WR-CALDESC:Events for SINGPromos.com
BEGIN:VEVENT
DTSTART:20180226T000000
DTEND:20180302T235900
DTSTAMP:20260422T082130
CREATED:20180226T142111
LAST-MODIFIED:20180226T142232
UID:214509@https://singpromos.com
SUMMARY:KFC: Flash this to redeem 2pcs of Honey Sesame Chicken free with every 2pcs purchase! Valid till 2 Mar 2018
DESCRIPTION:Good things come in pairs! Buy 2 pieces of Honey Sesame Chicken and get another 2 pieces FREE! (U.P. $3.5 each). For more information, visit [ https://singpromos.com/dining-restaurants-food/kfc-flash-this-to-redeem-2pcs-of-honey-sesame-chicken-free-with-every-2pcs-purchase-valid-till-2-mar-2018-214509/ ]. 
LOCATION:
URL:https://singpromos.com/dining-restaurants-food/kfc-flash-this-to-redeem-2pcs-of-honey-sesame-chicken-free-with-every-2pcs-purchase-valid-till-2-mar-2018-214509/
END:VEVENT
END:VCALENDAR