BEGIN:VCALENDAR
PRODID:-//SINGPromos.com//NONSGML v1.0//EN
VERSION:2.0
CALSCALE:GREGORIAN
METHOD:PUBLISH
X-WR-CALNAME:SINGPromos.com
X-ORIGINAL-URL:https://singpromos.com
X-WR-CALDESC:Events for SINGPromos.com
BEGIN:VEVENT
DTSTART:20180226T000000
DTEND:20180227T235900
DTSTAMP:20260422T082148
CREATED:20180227T010601
LAST-MODIFIED:20180227T010601
UID:214529@https://singpromos.com
SUMMARY:Qoo10: Grab free $8 cart coupons valid till 27 Feb 2018
DESCRIPTION:Qoo10 is running a Exclusive Rewards promotion featuring free cart coupons worth $8. Coupons are only available during the Event Period stated. For more information, visit [ https://singpromos.com/department-stores/qoo10-grab-free-8-cart-coupons-valid-till-27-feb-2018-214529/ ]. 
LOCATION:
URL:https://singpromos.com/department-stores/qoo10-grab-free-8-cart-coupons-valid-till-27-feb-2018-214529/
END:VEVENT
END:VCALENDAR