BEGIN:VCALENDAR
PRODID:-//SINGPromos.com//NONSGML v1.0//EN
VERSION:2.0
CALSCALE:GREGORIAN
METHOD:PUBLISH
X-WR-CALNAME:SINGPromos.com
X-ORIGINAL-URL:https://singpromos.com
X-WR-CALDESC:Events for SINGPromos.com
BEGIN:VEVENT
DTSTART:20180227T000000
DTEND:20180228T235900
DTSTAMP:20260422T082236
CREATED:20180227T135142
LAST-MODIFIED:20180227T135142
UID:214554@https://singpromos.com
SUMMARY:Courts: 10% OFF ($599 min spend) storewide online coupon code! Valid till 28 Feb 2018
DESCRIPTION:Get 10% OFF discount off at the Courts online store. Courts online store at promises the Lowest Prices Guaranteed, 30-Day Hassle-Free Exchange, Cash on Delivery and a Secured Checkout. For more information, visit [ https://singpromos.com/department-stores/courts-10-off-599-min-spend-storewide-online-coupon-code-valid-till-28-feb-2018-214554/ ]. 
LOCATION:
URL:https://singpromos.com/department-stores/courts-10-off-599-min-spend-storewide-online-coupon-code-valid-till-28-feb-2018-214554/
END:VEVENT
END:VCALENDAR