BEGIN:VCALENDAR
PRODID:-//SINGPromos.com//NONSGML v1.0//EN
VERSION:2.0
CALSCALE:GREGORIAN
METHOD:PUBLISH
X-WR-CALNAME:SINGPromos.com
X-ORIGINAL-URL:https://singpromos.com
X-WR-CALDESC:Events for SINGPromos.com
BEGIN:VEVENT
DTSTART:20180213T000000
DTEND:20180228T235900
DTSTAMP:20260422T082234
CREATED:20180227T140419
LAST-MODIFIED:20180227T143033
UID:214556@https://singpromos.com
SUMMARY:Save $100 off selected Xbox One S 500GB consoles at the official Microsoft Store! Ends 28 Feb 2018
DESCRIPTION:Hurry, get $100 off Xbox One S 500GB 500GB consoles - while stocks last. For more information, visit [ https://singpromos.com/video-games/save-100-off-selected-xbox-one-s-500gb-consoles-at-the-official-microsoft-store-ends-28-feb-2018-214556/ ]. 
LOCATION:
URL:https://singpromos.com/video-games/save-100-off-selected-xbox-one-s-500gb-consoles-at-the-official-microsoft-store-ends-28-feb-2018-214556/
END:VEVENT
END:VCALENDAR