BEGIN:VCALENDAR
PRODID:-//SINGPromos.com//NONSGML v1.0//EN
VERSION:2.0
CALSCALE:GREGORIAN
METHOD:PUBLISH
X-WR-CALNAME:SINGPromos.com
X-ORIGINAL-URL:https://singpromos.com
X-WR-CALDESC:Events for SINGPromos.com
BEGIN:VEVENT
DTSTART:20180228T000000
DTEND:20180302T235900
DTSTAMP:20260422T082134
CREATED:20180227T142511
LAST-MODIFIED:20180227T145829
UID:214559@https://singpromos.com
SUMMARY:Sushi Express: Everything at $1++ per plate at NEX outlet this week! From 28 Feb - 2 Mar 2018
DESCRIPTION:Sushi Express celebrates their new revamped NEX outlet with a $1++/plate promotion this week! For 3-days only, from 28 Feb - 2 Mar 2018, enjoy everything at $1++ per plate!. For more information, visit [ https://singpromos.com/dining-restaurants-food/sushi-express-everything-at-1-per-plate-at-nex-outlet-this-week-from-28-feb-2-mar-2018-214559/ ]. 
LOCATION:556083
URL:https://singpromos.com/dining-restaurants-food/sushi-express-everything-at-1-per-plate-at-nex-outlet-this-week-from-28-feb-2-mar-2018-214559/
END:VEVENT
END:VCALENDAR